BEGIN:VCALENDAR
VERSION:2.0
PRODID:-//Blomberg · Die Nelkenstadt - ECPv6.15.12.1//NONSGML v1.0//EN
CALSCALE:GREGORIAN
METHOD:PUBLISH
X-ORIGINAL-URL:https://www.blomberg-die-nelkenstadt.de
X-WR-CALDESC:Veranstaltungen für Blomberg · Die Nelkenstadt
REFRESH-INTERVAL;VALUE=DURATION:PT1H
X-Robots-Tag:noindex
X-PUBLISHED-TTL:PT1H
BEGIN:VTIMEZONE
TZID:Europe/Berlin
BEGIN:DAYLIGHT
TZOFFSETFROM:+0100
TZOFFSETTO:+0200
TZNAME:CEST
DTSTART:20240331T010000
END:DAYLIGHT
BEGIN:STANDARD
TZOFFSETFROM:+0200
TZOFFSETTO:+0100
TZNAME:CET
DTSTART:20241027T010000
END:STANDARD
BEGIN:DAYLIGHT
TZOFFSETFROM:+0100
TZOFFSETTO:+0200
TZNAME:CEST
DTSTART:20250330T010000
END:DAYLIGHT
BEGIN:STANDARD
TZOFFSETFROM:+0200
TZOFFSETTO:+0100
TZNAME:CET
DTSTART:20251026T010000
END:STANDARD
BEGIN:DAYLIGHT
TZOFFSETFROM:+0100
TZOFFSETTO:+0200
TZNAME:CEST
DTSTART:20260329T010000
END:DAYLIGHT
BEGIN:STANDARD
TZOFFSETFROM:+0200
TZOFFSETTO:+0100
TZNAME:CET
DTSTART:20261025T010000
END:STANDARD
END:VTIMEZONE
BEGIN:VEVENT
DTSTART;TZID=Europe/Berlin:20250116T193000
DTEND;TZID=Europe/Berlin:20250116T193000
DTSTAMP:20260422T160709
CREATED:20241119T094029Z
LAST-MODIFIED:20241119T094029Z
UID:10001404-1737055800-1737055800@www.blomberg-die-nelkenstadt.de
SUMMARY:Kabarettabend mit Gunter Böhnke und Jörg Leistner am Piano
DESCRIPTION:MIR SAGGSN GEHN NICH UNDER\nNa und? Wer hat denn das Gegenteil behauptet? – Alle! Und immer wieder. Der Sachse sollte soo klein gemacht werden wie sein Besitz an Land und Leuten nach dem Wiener Kongress von 1815. Aber 200 Jahre später ist der Sachse immer noch da. Und genialer denn je.\nDie sächsische Geniedichte ist die größte in der EU. Der Sachse ist allgegenwärtig. Ob als Erfinder\, Dichter oder Skispringer. Und das stößt nicht nur auf Gegenliebe. Man versuchte\, seinen Dialekt als nicht existent zu er klären. Ja sogar seine Existenz selbst in Frage zu stellen.\nVergeblich. Denn schon die Tatsache\, dass in jedem Preußen historisch gesehen ein halber Sachse steckt\, ließ das Unterfangen grandios scheitern. Der Sachse – in Person von Gunter Böhnke – fabuliert\, singt und blödelt. Dazu haut Jörg Leistner in die Tasten\,\ndass sie rauchen. \nVeranstalter: Rotary Club Detmold-Blomberg in Zusammenarbeit mit der Stadt Blomberg. \nAm Donnerstag\, den 16.01.2025 um 19:30 Uhr im Kulturhaus „Alte Meierei“\, Brinkstraße\, 32825 Blomberg. Die Karten kosten 25\,00 € pro Person. Karten gibt es bei Blomberg Marketing\, bei Krullreisen und in der Hof Apotheke in Detmold. \nDer Erlös der Veranstaltung kommt dem Ambulanten Hospiz- und Palliativ-Beratungsdienst Lippe e.V. zu Gute.
URL:https://www.blomberg-die-nelkenstadt.de/termin/kabarettabend-mit-gunter-boehnke-und-joerg-leistner-am-piano/
LOCATION:Kulturhaus „Alte Meierei“\, Brinkstr. 22\, Blomberg\, NRW\, 32825\, Germany
CATEGORIES:Bühne,Comedy
ATTACH;FMTTYPE=image/jpeg:https://www.blomberg-die-nelkenstadt.de/wp-content/uploads/Gunter-Boehnke-6-c-Joerg-Singer.jpg
ORGANIZER;CN="Rotary Club Detmold-Blomberg":MAILTO:detmold@rotary.de
END:VEVENT
END:VCALENDAR