BEGIN:VCALENDAR
VERSION:2.0
PRODID:-//Blomberg · Die Nelkenstadt - ECPv6.15.12.1//NONSGML v1.0//EN
CALSCALE:GREGORIAN
METHOD:PUBLISH
X-WR-CALNAME:Blomberg · Die Nelkenstadt
X-ORIGINAL-URL:https://www.blomberg-die-nelkenstadt.de
X-WR-CALDESC:Veranstaltungen für Blomberg · Die Nelkenstadt
REFRESH-INTERVAL;VALUE=DURATION:PT1H
X-Robots-Tag:noindex
X-PUBLISHED-TTL:PT1H
BEGIN:VTIMEZONE
TZID:Europe/Berlin
BEGIN:DAYLIGHT
TZOFFSETFROM:+0100
TZOFFSETTO:+0200
TZNAME:CEST
DTSTART:20240331T010000
END:DAYLIGHT
BEGIN:STANDARD
TZOFFSETFROM:+0200
TZOFFSETTO:+0100
TZNAME:CET
DTSTART:20241027T010000
END:STANDARD
BEGIN:DAYLIGHT
TZOFFSETFROM:+0100
TZOFFSETTO:+0200
TZNAME:CEST
DTSTART:20250330T010000
END:DAYLIGHT
BEGIN:STANDARD
TZOFFSETFROM:+0200
TZOFFSETTO:+0100
TZNAME:CET
DTSTART:20251026T010000
END:STANDARD
BEGIN:DAYLIGHT
TZOFFSETFROM:+0100
TZOFFSETTO:+0200
TZNAME:CEST
DTSTART:20260329T010000
END:DAYLIGHT
BEGIN:STANDARD
TZOFFSETFROM:+0200
TZOFFSETTO:+0100
TZNAME:CET
DTSTART:20261025T010000
END:STANDARD
END:VTIMEZONE
BEGIN:VEVENT
DTSTART;TZID=Europe/Berlin:20250801T073000
DTEND;TZID=Europe/Berlin:20250801T140000
DTSTAMP:20260422T174754
CREATED:20250716T104528Z
LAST-MODIFIED:20250728T090811Z
UID:10001150-1754033400-1754056800@www.blomberg-die-nelkenstadt.de
SUMMARY:Themenmarkt Kunstmauer Markt
DESCRIPTION:Themenwochenmarkt am 1. August in Blomberg – Kunst\, Musik und Mitmachaktionen für die ganze Familie \nAm Freitag\, den 1. August\, verwandelt sich der Wochenmarkt in Blomberg in einen besonderen Themenwochenmarkt rund um die Kunstmauer. Unter dem Motto „Kunst und Begegnung“ erwartet die Besucherinnen und Besucher ein abwechslungsreiches Programm mit kreativen Aktionen\, musikalischer Unterhaltung und kulinarischen Highlights. \nFür musikalische Begleitung sorgt wie gewohnt Rainer „Findus“ Koch\, der mit seinem vielfältigen Repertoire für eine angenehme und einladende Atmosphäre sorgt. \nDie Arbeitsgemeinschaft Kunstmauer wird vor Ort sein und ihre aktuellen Projekte vorstellen\, um die Verbindung zwischen Kunst und Gemeinschaft erlebbar zu machen. Der Eine Welt Laden bietet fair gehandelte Produkte sowie frisch aufgebrühten Kaffee an – eine schöne Gelegenheit\, sich über nachhaltigen Handel zu informieren. \nFür die jüngeren Besucher gibt es ein spannendes Programm: Das Jugendzentrum Blomberg (JUZ) lädt zu einer Mitmachaktion ein\, bei der gemeinsam auf einer großen Leinwand gemalt wird. Die Künstlerin Sabine Diedrich wird ebenfalls mit Kindern malen und ihnen die Möglichkeit geben\, kreativ aktiv zu werden. \nFür das leibliche Wohl sorgt die Kita Zauberblume mit frisch gebackenen Waffeln\, die zum Verweilen und Genießen einladen. \nDie Stadt Blomberg und Blomberg Marketing e.V. laden alle Bürgerinnen und Bürger herzlich ein\, den Themenwochenmarkt am 1. August zu besuchen. Ob Kunstliebhaber\, Familien oder Marktfreunde – hier gibt es viel zu entdecken\, zu erleben und mitzuerleben. Der Markt bietet eine wunderbare Gelegenheit\, Kunst\, Musik und Gemeinschaft in entspannter Atmosphäre zu genießen. \nDas ganze Jahresprogramm ist auf der Internetseite von Blomberg Marketing (Wochenmarkt / Themenmärkte · Blomberg · Die Nelkenstadt (blomberg-die-nelkenstadt.de)) einsehbar. Weitere Details zu den einzelnen Veranstaltungen werden rechtzeitig bekannt gegeben. \nInteressierte Handeltreibende\, Vereine oder Organisationen\, die sich am Wochenmarkt beteiligen möchten\, können sich unter 05235 5028342 an die Mitarbeiter*innen von Blomberg Marketing wenden. \nWo Sie parken können\, erfahren Sie hier.
URL:https://www.blomberg-die-nelkenstadt.de/termin/blomberger-wochenmarkt-21/
LOCATION:Blomberger Marktplatz\, Marktplatz\, Blomberg\, NRW\, 32825\, Germany
ATTACH;FMTTYPE=image/jpeg:https://www.blomberg-die-nelkenstadt.de/wp-content/uploads/Kunstmauer-Markt-1.jpg
END:VEVENT
BEGIN:VEVENT
DTSTART;TZID=Europe/Berlin:20250711T073000
DTEND;TZID=Europe/Berlin:20250711T140000
DTSTAMP:20260422T174754
CREATED:20250630T103157Z
LAST-MODIFIED:20250630T110352Z
UID:10001147-1752219000-1752242400@www.blomberg-die-nelkenstadt.de
SUMMARY:Themenmarkt "Bürgerfrühstück"
DESCRIPTION:Der Blomberger Wochenmarkt ist schon seit 1976 auf dem Marktplatz Anziehungspunkt für viele Blomberger und Gäste aus Nah und Fern. Er ist über Jahrzehnte gewachsen und tief in der Stadt verwurzelt. \nDie offizielle Marktzeit ist jeden Freitag von 7.30 bis 14.00 Uhr. \nObst\, Gemüse\, Kartoffeln\, Backwaren\, Antipasti\, Fleisch und Fisch\, Eier\, Honig – kaum etwas Essbares\, das hier nicht zu haben ist. Und das Beste dabei: Alles ist von hervorragender Frische und Qualität! \nNeben professionellen Marktbeschickern findet man etliche direkt vermarktende Betriebe und Privatleute\, die ihre Produkte oder ihre Dienstleistungen anbieten. \nDer Markt wird durch „Imbissbetriebe“ ergänzt. Kein Besucher muss auf dem Markt hungrig bleiben. Der Wochenmarkt ist ein „Frischemarkt“ und soll zur Belebung der Innenstadt beitragen. Viele Blomberger und Gäste nutzen den Besuch auf dem Markt auch zu einem anschließenden Einkaufsbummel in der Innenstadt oder zu einem ausführlichen Besuch in der örtlichen Gastronomie. \nSchauen Sie mal vorbei! \nSie möchten gerne mit Ihrem Stand auf dem Wochenmarkt stehen? Dann melden Sie sich bei der Stadt Blomberg unter 05235 5040 oder info@blomberg-lippe.de \nWo Sie parken können\, erfahren Sie hier.
URL:https://www.blomberg-die-nelkenstadt.de/termin/blomberger-wochenmarkt-20/
LOCATION:Blomberger Marktplatz\, Marktplatz\, Blomberg\, NRW\, 32825\, Germany
ATTACH;FMTTYPE=image/jpeg:https://www.blomberg-die-nelkenstadt.de/wp-content/uploads/Buergerfruehstueck-A4-1.jpg
END:VEVENT
END:VCALENDAR